BEGIN:VCALENDAR
VERSION:2.0
PRODID:-//[Village de Saint-Just dans l&#039;Hérault] - ECPv6.2.8.2//NONSGML v1.0//EN
CALSCALE:GREGORIAN
METHOD:PUBLISH
X-WR-CALNAME:[Village de Saint-Just dans l&#039;Hérault]
X-ORIGINAL-URL:https://saintjust34.com
X-WR-CALDESC:évènements pour [Village de Saint-Just dans l&#039;Hérault]
REFRESH-INTERVAL;VALUE=DURATION:PT1H
X-Robots-Tag:noindex
X-PUBLISHED-TTL:PT1H
BEGIN:VTIMEZONE
TZID:Europe/Paris
BEGIN:DAYLIGHT
TZOFFSETFROM:+0100
TZOFFSETTO:+0200
TZNAME:CEST
DTSTART:20170326T010000
END:DAYLIGHT
BEGIN:STANDARD
TZOFFSETFROM:+0200
TZOFFSETTO:+0100
TZNAME:CET
DTSTART:20171029T010000
END:STANDARD
BEGIN:DAYLIGHT
TZOFFSETFROM:+0100
TZOFFSETTO:+0200
TZNAME:CEST
DTSTART:20180325T010000
END:DAYLIGHT
BEGIN:STANDARD
TZOFFSETFROM:+0200
TZOFFSETTO:+0100
TZNAME:CET
DTSTART:20181028T010000
END:STANDARD
END:VTIMEZONE
BEGIN:VEVENT
DTSTART;TZID=Europe/Paris:20180922T203000
DTEND;TZID=Europe/Paris:20180922T223000
DTSTAMP:20260421T132841
CREATED:20180816T124203Z
LAST-MODIFIED:20180816T124203Z
UID:2847-1537648200-1537655400@saintjust34.com
SUMMARY:Soirée irlandaise - pour l'association "Rêves"
DESCRIPTION:La municipalité organise une soirée irlandaise avec le groupe The Ballyshannons. Les bénéfices de cette soirée seront entièrement reversés à l’association « Rêves ».\n \nLes irlandais Ballyshannon seront en concert le SAMEDI 22 SEPTEMBRE à partir de 20h30. Cette soirée irlandaise a pour objectif de récolter des fonds pour l’association caritative « Rêves ». Cette association œuvre pour réaliser les rêves des enfants très gravement malades. \nEntrée : 5 € \nBuvette. Tapas. \n  \n  \n 
URL:https://saintjust34.com/event/soiree-irlandaise-pour-lassociation-reves/
LOCATION:Salle René Valette\, jardins de la condamine\, Saint-Just\, 34400\, France
CATEGORIES:Animation,Enfance,Musique,Santé,Solidarité,Spectacle
ATTACH;FMTTYPE=image/jpeg:https://saintjust34.com/wp-content/uploads/2018/08/34117815_10156313145834898_1762064707469967360_o-1.jpg
END:VEVENT
BEGIN:VEVENT
DTSTART;TZID=Europe/Paris:20180901T100000
DTEND;TZID=Europe/Paris:20180901T180000
DTSTAMP:20260421T132841
CREATED:20180816T092249Z
LAST-MODIFIED:20180816T092249Z
UID:2825-1535796000-1535824800@saintjust34.com
SUMMARY:Journée des sports
DESCRIPTION:SAMEDI 1er SEPTEMBRE de 10h à 18h\, l’ASCM Tennis organise une journée sportive pour les enfants. \nAteliers sportifs\, découverte de plusieurs sports\, … \nInfos auprès de Norbert RUBIO au 06 77 05 19 74 et de Julien JAUSSOIN au 06 33 48 75 45 \n\n  \n 
URL:https://saintjust34.com/event/journee-des-sports-2/
CATEGORIES:Animation,Association,Enfance,sport
ATTACH;FMTTYPE=image/jpeg:https://saintjust34.com/wp-content/uploads/2017/08/a-day-at-the-courts-v1-0-1540261-1.jpg
END:VEVENT
BEGIN:VEVENT
DTSTART;TZID=Europe/Paris:20180428T093000
DTEND;TZID=Europe/Paris:20180429T180000
DTSTAMP:20260421T132841
CREATED:20180327T121257Z
LAST-MODIFIED:20180327T121257Z
UID:2613-1524907800-1525024800@saintjust34.com
SUMMARY:Playmobil à Saint-Just
DESCRIPTION:Les célèbres figurines articulées si sympathiques seront en visite à Saint-Just les 28 et 29 avril 2018. Pour le plaisir des grands et des petits\, les Playmobil seront mis en scène : le monde féérique des princesses\, des lapins Playmobil\, l’Empire Romain\, le Moyen Age\, centres équestres\, chevaliers\, dragons\,  et bien sûr les traditions camarguaises seront aussi représentées… A découvrir ! \nAteliers de customisation. Les parents et les enfants pourront jouer ensemble. \nLes collectionneurs pourront retrouver un très grand choix de boîtes récentes et vintage ainsi que de nombreuses pièces détachées. \nL’expo vente rassemble des collectionneurs passionnés de Playmobil. \n\nAtelier\, expo – vente\, buvette.\n\n\n  \n  \n 
URL:https://saintjust34.com/event/playmobil-a-saint-just/
LOCATION:Salle René Valette\, jardins de la condamine\, Saint-Just\, 34400\, France
CATEGORIES:Animation,Enfance,Exposition
ATTACH;FMTTYPE=image/jpeg:https://saintjust34.com/wp-content/uploads/2018/03/playmo-1-scaled.jpg
END:VEVENT
BEGIN:VEVENT
DTSTART;TZID=Europe/Paris:20180411T121000
DTEND;TZID=Europe/Paris:20180411T130000
DTSTAMP:20260421T132841
CREATED:20180314T090743Z
LAST-MODIFIED:20180314T090743Z
UID:2587-1523448600-1523451600@saintjust34.com
SUMMARY:Marché aux fleurs de l'école Louise Michel
DESCRIPTION:L’école maternelle Louise Michel organise un marché aux fleurs MERCREDI 11 AVRIL 2018 à partir de 12h10\n  \nDe nombreuses variétés seront proposées : géraniums\, dahlias\, bégonias\, œillets d’Inde\, tomates\, fraisiers\, framboisiers\, basilic\, lavande\, … \nRendez-vous dans le cour de l’école maternelle. Marché ouvert à tous ! \nPrévoir un sac pour emporter vos achats.
URL:https://saintjust34.com/event/marche-aux-fleurs-de-lecole-louise-michel-2/
LOCATION:Ecole maternelle Louise Michel\, Saint-just\, 34400\, France
CATEGORIES:Enfance,Environnement,Nature
ATTACH;FMTTYPE=image/jpeg:https://saintjust34.com/wp-content/uploads/2017/04/Composition3-1-scaled.jpg
END:VEVENT
BEGIN:VEVENT
DTSTART;TZID=Europe/Paris:20180402T100000
DTEND;TZID=Europe/Paris:20180402T120000
DTSTAMP:20260421T132841
CREATED:20180208T131937Z
LAST-MODIFIED:20180208T131937Z
UID:2507-1522663200-1522670400@saintjust34.com
SUMMARY:La chasse aux œufs de Pâques
DESCRIPTION:La municipalité organise une chasse aux œufs de Pâques LUNDI 2 AVRIL 2018 à l’espace de loisirs du Dardaillon. \nProgramme : \n10h : rendez-vous à l’espace de loisirs du Dardaillon \n10h30 : départ de la chasse aux œufs \nSuivi d’un apéritif offert par la municipalité. \nInscriptions auprès des instituteurs (bulletin d’inscription remis à votre enfant) ou auprès de la mairie. \n 
URL:https://saintjust34.com/event/la-chasse-aux-oeufs-de-paques-2/
LOCATION:Espace du Dardaillon\, 105-225 Avenue de l'Abrivado\, Saint-Just\, 34400\, France
CATEGORIES:Animation,Enfance
ATTACH;FMTTYPE=image/jpeg:https://saintjust34.com/wp-content/uploads/2018/02/Composition4-1-scaled.jpg
END:VEVENT
BEGIN:VEVENT
DTSTART;TZID=Europe/Paris:20180317T100000
DTEND;TZID=Europe/Paris:20180317T170000
DTSTAMP:20260421T132841
CREATED:20171213T091158Z
LAST-MODIFIED:20171213T091158Z
UID:2439-1521280800-1521306000@saintjust34.com
SUMMARY:Carnaval
DESCRIPTION:La municipalité et les associations Saint-Justoises organisent le carnaval de Saint-Just le SAMEDI 17 MARS 2018.\n \nProgramme : \n10h : rendez-vous à l’espace jeunes (devant le stade Manuel Amoros) \nDéfilé dans les rues du village. Suivi d’un apéritif offert par la municipalité à l’espace du Dardaillon \nDe 15h à 17h : gouter costumé des enfants. Première crêpe offerte. Élection du plus beau costume. A l’espace jeunes. Organisé par l’association La Récré. \n 
URL:https://saintjust34.com/event/carnaval-2/
LOCATION:Saint-Just\, Saint-just\, 34400\, France
CATEGORIES:Animation,Enfance
ATTACH;FMTTYPE=image/jpeg:https://saintjust34.com/wp-content/uploads/2017/12/Site-1-scaled.jpg
END:VEVENT
BEGIN:VEVENT
DTSTART;TZID=Europe/Paris:20171203T090000
DTEND;TZID=Europe/Paris:20171203T130000
DTSTAMP:20260421T132841
CREATED:20171116T151307Z
LAST-MODIFIED:20171116T151307Z
UID:2380-1512291600-1512306000@saintjust34.com
SUMMARY:Téléthon 2017 : bourse aux jouets
DESCRIPTION:Organisée par les associations La Récré et le Club Ado. \nVente de jouets et de vêtements pour enfants et de matériel de puériculture d’occasion. Sur inscription uniquement. \nEntrée gratuite \nSalle René Valette \n 
URL:https://saintjust34.com/event/bourse-aux-jouets/
LOCATION:Salle René Valette\, jardins de la condamine\, Saint-Just\, 34400\, France
CATEGORIES:Animation,Association,Enfance,Santé,Solidarité
ATTACH;FMTTYPE=image/jpeg:https://saintjust34.com/wp-content/uploads/2017/11/site-4-1-scaled.jpg
END:VEVENT
BEGIN:VEVENT
DTSTART;TZID=Europe/Paris:20171117T170000
DTEND;TZID=Europe/Paris:20171117T180000
DTSTAMP:20260421T132841
CREATED:20171116T162953Z
LAST-MODIFIED:20171116T162953Z
UID:2390-1510938000-1510941600@saintjust34.com
SUMMARY:Guignol au pays des Schtroumpfs
DESCRIPTION:Spectacle de marionnettes pour enfants à 17h15.\n \nEntrée : 6 €. 1 place offerte pour deux places achetées. \nSalle de spectacles Bernadette Lafont. \n 
URL:https://saintjust34.com/event/guignol-au-pays-des-schtroumpfs/
LOCATION:Salle Bernadette Lafont\, Rue Primevère\, Saint-just\, 34400\, France
CATEGORIES:Animation,Enfance,Musique,Spectacle
ATTACH;FMTTYPE=image/jpeg:https://saintjust34.com/wp-content/uploads/2017/11/Composition9-1-scaled.jpg
END:VEVENT
BEGIN:VEVENT
DTSTART;TZID=Europe/Paris:20171031T180000
DTEND;TZID=Europe/Paris:20171031T200000
DTSTAMP:20260421T132841
CREATED:20171023T093630Z
LAST-MODIFIED:20171023T093630Z
UID:2310-1509472800-1509480000@saintjust34.com
SUMMARY:Halloween des petits monstres
DESCRIPTION:Les associations La Récré et le club ado organisent une soirée Halloween pour les petits monstres Saint-Justois. \nProgramme : \n18h : défilé costumé des petits monstres dans les rues du village. Départ devant le stade Manuel Amoros. \n19h à 20h : goûter des sorciers dans la salle du club ado (espace jeunes au stade Manuel Amoros). Pizza\, bonbons et soupe des sorciers offerts aux enfants costumés. Élection du prince et de la princesse de la nuit. \n  \nA savoir : la présence d’un adulte est OBLIGATOIRE. Le parcours du défilé aura lieu dans le lotissement des Albizzias.   Si vous souhaitez distribuer des  bonbons aux enfants\, veuillez svp mettre un signe distinctif devant votre maison (citrouille\, bougie ou autre) afin que les enfants ne dérange pas les personnes qui ne souhaitent pas participer. \n  \n 
URL:https://saintjust34.com/event/halloween-des-petits-monstres/
LOCATION:Salle du Club Ado – espace jeunes\, Saint-just\, 34400\, France
CATEGORIES:Animation,Association,Enfance
ATTACH;FMTTYPE=image/jpeg:https://saintjust34.com/wp-content/uploads/2017/10/Composition4-1-scaled.jpg
END:VEVENT
BEGIN:VEVENT
DTSTART;TZID=Europe/Paris:20171006T183000
DTEND;TZID=Europe/Paris:20171006T193000
DTSTAMP:20260421T132841
CREATED:20171002T095949Z
LAST-MODIFIED:20171002T095949Z
UID:2261-1507314600-1507318200@saintjust34.com
SUMMARY:Spectacle pour enfants : l'arboratoire
DESCRIPTION:  \nVENDREDI 6 OCTOBRE à 18h30 : Théâtre d’ombre et d’objets pour jeune public à partir de 5 ans  \nL’Arboratoire – par la Compagnie Les Trigonelles  \nDeux chercheurs s’interrogent sur l’origine des arbres et la naissance d’une forêt. \nSynopsis : Ils auscultent sa vie\, dedans / dehors\, de haut en bas\, de prés de loin et pour cela\, changent parfois d’instruments d’observation. Ils manipulent ombre\, objet et matière pour se représenter la forêt et utilisent voix\, son et lumière pour la faire vibrer. Leurs dérives scientifiques et imaginaires nous offrent un spectacle poétique qui ouvre à l’écoute de la nature et\, bien au-delà\, au mystère de la création. \nDurée : 45 min \nRéservation conseillée : contacter AREMA LR au 04 66 51 59 41 ou par mail : artpantin@gmail.com \n 
URL:https://saintjust34.com/event/spectacle-pour-enfants-larboratoire/
LOCATION:Salle Bernadette Lafont\, Rue Primevère\, Saint-just\, 34400\, France
CATEGORIES:Enfance,Spectacle,Théâtre
ATTACH;FMTTYPE=image/jpeg:https://saintjust34.com/wp-content/uploads/2017/10/larboratoire-1-scaled.jpg
END:VEVENT
BEGIN:VEVENT
DTSTART;TZID=Europe/Paris:20170916T100000
DTEND;TZID=Europe/Paris:20170916T180000
DTSTAMP:20260421T132841
CREATED:20170804T082525Z
LAST-MODIFIED:20170804T082525Z
UID:2144-1505556000-1505584800@saintjust34.com
SUMMARY:Journée des sports
DESCRIPTION:SAMEDI 16 SEPTEMBRE de 10h à 18h\, l’ASCM Tennis organise une journée sportive pour les enfants. \nAteliers sportifs\, découverte de plusieurs sports\, … \nInfos auprès de Norbert RUBIO au 06 77 05 19 74 et de Julien JAUSSOIN au 06 33 48 75 45 \n\n  \n 
URL:https://saintjust34.com/event/journee-des-sports/
CATEGORIES:Animation,Association,Enfance,sport
ATTACH;FMTTYPE=image/jpeg:https://saintjust34.com/wp-content/uploads/2017/08/a-day-at-the-courts-v1-0-1540261-1.jpg
END:VEVENT
BEGIN:VEVENT
DTSTART;TZID=Europe/Paris:20170906T150000
DTEND;TZID=Europe/Paris:20170906T180000
DTSTAMP:20260421T132841
CREATED:20170804T081917Z
LAST-MODIFIED:20170804T081917Z
UID:2140-1504710000-1504720800@saintjust34.com
SUMMARY:Journées portes ouvertes ASCM Tennis
DESCRIPTION:SAMEDI 2 et MERCREDI 6 SEPTEMBRE de 15h à 18h\, l’ASCM Tennis organise deux journées portes ouvertes destinées aux jeunes de moins de 18 ans : démonstrations\, initiation\,… \nInfos auprès de Norbert RUBIO au 06 77 05 19 74 et de Julien JAUSSOIN au 06 33 48 75 45 \n\n  \n 
URL:https://saintjust34.com/event/journees-portes-ouvertes-ascm-tennis-2/
CATEGORIES:Animation,Association,Enfance,sport
ATTACH;FMTTYPE=image/jpeg:https://saintjust34.com/wp-content/uploads/2017/08/a-day-at-the-courts-v1-0-1540261-1.jpg
END:VEVENT
BEGIN:VEVENT
DTSTART;TZID=Europe/Paris:20170902T150000
DTEND;TZID=Europe/Paris:20170902T180000
DTSTAMP:20260421T132841
CREATED:20170804T081433Z
LAST-MODIFIED:20170804T081433Z
UID:2132-1504364400-1504375200@saintjust34.com
SUMMARY:Journées portes ouvertes ASCM Tennis
DESCRIPTION:SAMEDI 2 et MERCREDI 6 SEPTEMBRE de 15h à 18h\, l’ASCM Tennis organise deux journées portes ouvertes destinées aux jeunes de moins de 18 ans : démonstrations\, initiation\,… \nInfos auprès de Norbert RUBIO au 06 77 05 19 74 et de Julien JAUSSOIN au 06 33 48 75 45 \n\n  \n 
URL:https://saintjust34.com/event/journees-portes-ouvertes-ascm-tennis/
CATEGORIES:Animation,Association,Enfance,sport
ATTACH;FMTTYPE=image/jpeg:https://saintjust34.com/wp-content/uploads/2017/08/a-day-at-the-courts-v1-0-1540261-1.jpg
END:VEVENT
BEGIN:VEVENT
DTSTART;TZID=Europe/Paris:20170419T121000
DTEND;TZID=Europe/Paris:20170419T130000
DTSTAMP:20260421T132841
CREATED:20170413T100054Z
LAST-MODIFIED:20170413T100054Z
UID:1796-1492603800-1492606800@saintjust34.com
SUMMARY:Marché aux fleurs de l'école Louise Michel
DESCRIPTION:L’école maternelle Louise Michel organise un marché aux fleurs.\n  \nDe nombreuses variétés seront proposées : géraniums\, dahlias\, bégonias\, œillets d’Inde\, tomates\, fraisiers\, framboisiers\, basilic\, lavande\, … \nRendez-vous dans le cour de l’école maternelle. Marché ouvert à tous ! \nPrévoir un sac pour emporter vos achats.
URL:https://saintjust34.com/event/marche-aux-fleurs-de-lecole-louise-michel/
LOCATION:Ecole maternelle Louise Michel\, Saint-just\, 34400\, France
CATEGORIES:Enfance,Environnement,Nature
ATTACH;FMTTYPE=image/jpeg:https://saintjust34.com/wp-content/uploads/2017/04/Composition3-1-scaled.jpg
END:VEVENT
BEGIN:VEVENT
DTSTART;TZID=Europe/Paris:20170417T100000
DTEND;TZID=Europe/Paris:20170417T120000
DTSTAMP:20260421T132841
CREATED:20170313T145743Z
LAST-MODIFIED:20170313T145743Z
UID:1691-1492423200-1492430400@saintjust34.com
SUMMARY:La chasse aux œufs de Pâques
DESCRIPTION:La municipalité organise une chasse aux œufs de Pâques LUNDI 17 AVRIL 2017 à l’espace de loisirs du Dardaillon. \nProgramme : \n10h : rendez-vous à l’espace de loisirs du Dardaillon \n10h30 : départ de la chasse aux œufs \nSuivi d’un apéritif offert par la municipalité. \nInscriptions auprès des instituteurs (bulletin d’inscription remis à votre enfant) ou auprès de la mairie. \n 
URL:https://saintjust34.com/event/la-chasse-aux-oeufs-de-paques/
LOCATION:Espace du Dardaillon\, 105-225 Avenue de l'Abrivado\, Saint-Just\, 34400\, France
CATEGORIES:Animation,Enfance
ATTACH;FMTTYPE=image/jpeg:https://saintjust34.com/wp-content/uploads/2017/03/Chasse-aux-oeufs-site-1-scaled.jpg
END:VEVENT
BEGIN:VEVENT
DTSTART;TZID=Europe/Paris:20170325T100000
DTEND;TZID=Europe/Paris:20170325T170000
DTSTAMP:20260421T132841
CREATED:20170313T150518Z
LAST-MODIFIED:20170313T150518Z
UID:1695-1490436000-1490461200@saintjust34.com
SUMMARY:Carnaval
DESCRIPTION:La municipalité et les associations Saint-Justoises organisent le carnaval de Saint-Just le SAMEDI 25 MARS 2017.\n \nEN CAS DE PLUIE\, LE DÉFILÉ DU CARNAVAL SERA ANNULÉ. LE GOUTER COSTUMÉ DE L’APRÈS-MIDI SERA MAINTENU. \nProgramme : \n10h : rendez-vous à l’espace jeunes (devant le stade Manuel Amoros) \nDéfilé dans les rues du village. Suivi d’un apéritif offert par la municipalité à l’espace du Dardaillon \nDe 15h à 17h : gouter costumé des enfants. Première crêpe offerte. Élection du plus beau costume. A l’espace jeunes. Organisé par l’association La Récré. \n 
URL:https://saintjust34.com/event/carnaval/
LOCATION:Saint-Just\, Saint-just\, 34400\, France
CATEGORIES:Animation,Enfance
END:VEVENT
END:VCALENDAR