BEGIN:VCALENDAR
VERSION:2.0
PRODID:-//[Village de Saint-Just dans l&#039;Hérault] - ECPv6.2.8.2//NONSGML v1.0//EN
CALSCALE:GREGORIAN
METHOD:PUBLISH
X-ORIGINAL-URL:https://saintjust34.com
X-WR-CALDESC:évènements pour [Village de Saint-Just dans l&#039;Hérault]
REFRESH-INTERVAL;VALUE=DURATION:PT1H
X-Robots-Tag:noindex
X-PUBLISHED-TTL:PT1H
BEGIN:VTIMEZONE
TZID:Europe/Paris
BEGIN:DAYLIGHT
TZOFFSETFROM:+0100
TZOFFSETTO:+0200
TZNAME:CEST
DTSTART:20170326T010000
END:DAYLIGHT
BEGIN:STANDARD
TZOFFSETFROM:+0200
TZOFFSETTO:+0100
TZNAME:CET
DTSTART:20171029T010000
END:STANDARD
END:VTIMEZONE
BEGIN:VEVENT
DTSTART;TZID=Europe/Paris:20170520T100000
DTEND;TZID=Europe/Paris:20170520T233000
DTSTAMP:20260425T184757
CREATED:20170502T161703Z
LAST-MODIFIED:20170502T161703Z
UID:1840-1495274400-1495323000@saintjust34.com
SUMMARY:Journée solidaire africaine
DESCRIPTION:Journée africaine\, organisée par l’ASCM Danses Africaines.  \nLa section Danses Africaines et le Collectif Blanches Ebène organisent un événement « BE EBENE »\, une journée solidaire pour petits et grands le SAMEDI 20 MAI. \n  \nProgramme pour toute la famille : \nEn journée… \n– 10h30 : atelier d’arts plastiques \n– 10h30 : Bijoux – T’Sublim \, Maquillage \n– 11h : déambulation Clown et Textes chuchotés \n– 13h30 à 14h30 : stage de percussions avec Elico et Makou Seck \n– 14h : atelier graffiti avec l’association FaceOsol \n– 14h45 à 16h45 : stage de danse avec Elico et Makou Seck \n– Exposition BLANCHES EBENE – Barbar’Art \n– 17h : conte africain- Asso La boîte à Malices \nEn soirée… \n– 20h30 : défilé « Coiffures Afro » – Salon ‘Mon Rayon  beauté’ \nDémonstrations Danses et Percussions \nAnimation musicale et DJ \n  \nTarifs : \nEntrée : 5 € / 2 € pour les enfants accompagné d’un parent Stage danse : 20 € / 2h                                                   \nStage percussions : 10 euros/1h \nEntrée gratuite pour les stagiaires \n19h : Restauration soir : Assiette Tapas ou Poulet Coco : 5 €   (sur réservation) \nAction solidaire : « Sur le Chemin de l’école…Blanches Ebène ». Collecte de matériel scolaire neuf. \n  \nInformations et Pré-vente  : 06 34 23 33 24 Page Facebook « Blanches Ébène » \n  \n 
URL:https://saintjust34.com/event/journee-solidaire-africaine/
LOCATION:Espace du Dardaillon\, 105-225 Avenue de l'Abrivado\, Saint-Just\, 34400\, France
CATEGORIES:Animation,Art,Artisanat,Association,Concert,Exposition,Musique
ATTACH;FMTTYPE=image/jpeg:https://saintjust34.com/wp-content/uploads/2017/05/Composition1-2-scaled.jpg
END:VEVENT
BEGIN:VEVENT
DTSTART;TZID=Europe/Paris:20170521T093000
DTEND;TZID=Europe/Paris:20170521T130000
DTSTAMP:20260425T184757
CREATED:20170517T072021Z
LAST-MODIFIED:20170517T072021Z
UID:1700-1495359000-1495371600@saintjust34.com
SUMMARY:Rétro Saint-Just\, la mensuelle
DESCRIPTION:L’association Les Miniacs du Languedoc organise son rassemblement mensuel.\n \nL’association des amoureux des Mini Austin et des voitures d’exception vous donne rendez-vous tous les 3èmes dimanche de chaque mois pour un Rétro Saint-Just. \nDIMANCHE 21 MAI\, rendez vous à partir de 9h30 à 13h pour une exposition de voitures d’exception. \nOuvert à tous véhicules. Entrée gratuite.\nBuvette\, viennoiseries. \n  \n 
URL:https://saintjust34.com/event/retro-saint-just-la-mensuelle/
LOCATION:Espace du Dardaillon\, 105-225 Avenue de l'Abrivado\, Saint-Just\, 34400\, France
CATEGORIES:Animation,Exposition
ATTACH;FMTTYPE=image/jpeg:https://saintjust34.com/wp-content/uploads/2017/03/Composition1-1-scaled.jpg
END:VEVENT
END:VCALENDAR