BEGIN:VCALENDAR
VERSION:2.0
PRODID:-//[Village de Saint-Just dans l&#039;Hérault] - ECPv6.2.8.2//NONSGML v1.0//EN
CALSCALE:GREGORIAN
METHOD:PUBLISH
X-WR-CALNAME:[Village de Saint-Just dans l&#039;Hérault]
X-ORIGINAL-URL:https://saintjust34.com
X-WR-CALDESC:évènements pour [Village de Saint-Just dans l&#039;Hérault]
REFRESH-INTERVAL;VALUE=DURATION:PT1H
X-Robots-Tag:noindex
X-PUBLISHED-TTL:PT1H
BEGIN:VTIMEZONE
TZID:Europe/Paris
BEGIN:DAYLIGHT
TZOFFSETFROM:+0100
TZOFFSETTO:+0200
TZNAME:CEST
DTSTART:20180325T010000
END:DAYLIGHT
BEGIN:STANDARD
TZOFFSETFROM:+0200
TZOFFSETTO:+0100
TZNAME:CET
DTSTART:20181028T010000
END:STANDARD
END:VTIMEZONE
BEGIN:VEVENT
DTSTART;TZID=Europe/Paris:20181110T160000
DTEND;TZID=Europe/Paris:20181111T180000
DTSTAMP:20260424T183107
CREATED:20180924T151506Z
LAST-MODIFIED:20180924T151506Z
UID:2896-1541865600-1541959200@saintjust34.com
SUMMARY:Foire artisanale
DESCRIPTION:Stands de produits du terroir\, artisanat\, spécialités culinaires\, accessoires de mode\, accessoires bébés\, vêtements\, idées cadeaux… \nSamedi 10 novembre : de 16h à 20h. Dimanche 11 novembre de 9h à 18h\nSalle René Valette\nEntrée libre et gratuite
URL:https://saintjust34.com/event/foire-artisanale-2-2/
LOCATION:Salle René Valette\, jardins de la condamine\, Saint-Just\, 34400\, France
CATEGORIES:Animation,Artisanat,Exposition
ATTACH;FMTTYPE=image/jpeg:https://saintjust34.com/wp-content/uploads/2016/08/foir_artisanale.jpg
END:VEVENT
BEGIN:VEVENT
DTSTART;TZID=Europe/Paris:20181117T210000
DTEND;TZID=Europe/Paris:20181117T223000
DTSTAMP:20260424T183107
CREATED:20181107T085257Z
LAST-MODIFIED:20181107T085257Z
UID:3040-1542488400-1542493800@saintjust34.com
SUMMARY:Concert spectacle chœurs
DESCRIPTION:Concert de 3  ensembles vocaux et un orchestre avec 80 chanteurs « Bienvenue Monsieur Prévert ». \n  \n  \n 
URL:https://saintjust34.com/event/concert-spectacle-choeurs/
LOCATION:Salle René Valette\, jardins de la condamine\, Saint-Just\, 34400\, France
CATEGORIES:Animation,Exposition
ATTACH;FMTTYPE=image/png:https://saintjust34.com/wp-content/uploads/2018/11/Prevert-site-1.png
END:VEVENT
BEGIN:VEVENT
DTSTART;TZID=Europe/Paris:20181118T093000
DTEND;TZID=Europe/Paris:20181118T130000
DTSTAMP:20260424T183107
CREATED:20180314T085910Z
LAST-MODIFIED:20180314T085910Z
UID:2577-1542533400-1542546000@saintjust34.com
SUMMARY:Rétro Saint-Just\, la mensuelle
DESCRIPTION:L’association Les Miniacs du Languedoc organise son rassemblement mensuel.\n \nL’association des amoureux des Mini Austin et des voitures d’exception vous donne rendez-vous tous les 3èmes dimanche de chaque mois pour un Rétro Saint-Just. \nDIMANCHE 18 NOVEMBRE\, rendez vous à partir de 9h30 à 13h pour une exposition de voitures d’exception. \nOuvert à tous véhicules. Entrée gratuite.\nBuvette\, viennoiseries. \n  \n 
URL:https://saintjust34.com/event/retro-saint-just-la-mensuelle-5-2-2-2-2-2-3/
LOCATION:Espace du Dardaillon\, 105-225 Avenue de l'Abrivado\, Saint-Just\, 34400\, France
CATEGORIES:Animation,Exposition
ATTACH;FMTTYPE=image/jpeg:https://saintjust34.com/wp-content/uploads/2017/03/Composition1-1-scaled.jpg
END:VEVENT
END:VCALENDAR