BEGIN:VCALENDAR
VERSION:2.0
PRODID:-//[Village de Saint-Just dans l&#039;Hérault] - ECPv6.2.8.2//NONSGML v1.0//EN
CALSCALE:GREGORIAN
METHOD:PUBLISH
X-ORIGINAL-URL:https://saintjust34.com
X-WR-CALDESC:évènements pour [Village de Saint-Just dans l&#039;Hérault]
REFRESH-INTERVAL;VALUE=DURATION:PT1H
X-Robots-Tag:noindex
X-PUBLISHED-TTL:PT1H
BEGIN:VTIMEZONE
TZID:Europe/Paris
BEGIN:DAYLIGHT
TZOFFSETFROM:+0100
TZOFFSETTO:+0200
TZNAME:CEST
DTSTART:20160327T010000
END:DAYLIGHT
BEGIN:STANDARD
TZOFFSETFROM:+0200
TZOFFSETTO:+0100
TZNAME:CET
DTSTART:20161030T010000
END:STANDARD
END:VTIMEZONE
BEGIN:VEVENT
DTSTART;VALUE=DATE:20160901
DTEND;VALUE=DATE:20161029
DTSTAMP:20260426T060716
CREATED:20160803T122040Z
LAST-MODIFIED:20160803T122040Z
UID:901-1472688000-1477699199@saintjust34.com
SUMMARY:Exposition : peinture - Pilar RAMSTEIN et David NOBLOT
DESCRIPTION:Du 1er septembre au 28 octobre \nHall culturel Mairie de Saint-Just \nVisible pendant les heures d’ouverture de la Mairie\nEntrée libre et gratuite
URL:https://saintjust34.com/event/exposition-peinture-pilar-ramstein-et-david-noblot/
LOCATION:Mairie de Saint Just\, 2 Avenue Gabriel Péri\, Saint-Just\, 34400\, France
CATEGORIES:Exposition
ATTACH;FMTTYPE=image/jpeg:https://saintjust34.com/wp-content/uploads/2016/07/img_exposition.jpg
END:VEVENT
END:VCALENDAR