BEGIN:VCALENDAR
VERSION:2.0
PRODID:-//[Village de Saint-Just dans l&#039;Hérault] - ECPv6.2.8.2//NONSGML v1.0//EN
CALSCALE:GREGORIAN
METHOD:PUBLISH
X-WR-CALNAME:[Village de Saint-Just dans l&#039;Hérault]
X-ORIGINAL-URL:https://saintjust34.com
X-WR-CALDESC:évènements pour [Village de Saint-Just dans l&#039;Hérault]
REFRESH-INTERVAL;VALUE=DURATION:PT1H
X-Robots-Tag:noindex
X-PUBLISHED-TTL:PT1H
BEGIN:VTIMEZONE
TZID:Europe/Paris
BEGIN:DAYLIGHT
TZOFFSETFROM:+0100
TZOFFSETTO:+0200
TZNAME:CEST
DTSTART:20170326T010000
END:DAYLIGHT
BEGIN:STANDARD
TZOFFSETFROM:+0200
TZOFFSETTO:+0100
TZNAME:CET
DTSTART:20171029T010000
END:STANDARD
END:VTIMEZONE
BEGIN:VEVENT
DTSTART;VALUE=DATE:20170111
DTEND;VALUE=DATE:20170304
DTSTAMP:20260425T232144
CREATED:20160805T154451Z
LAST-MODIFIED:20160805T154451Z
UID:953-1484092800-1488585599@saintjust34.com
SUMMARY:Exposition Aux Couleurs de l'Enfance
DESCRIPTION:Exposition de peinture de l’association Aux Couleurs de l’Enfance. \nVisible pendant les heures d’ouverture de la mairie.\nEntrée libre et gratuite
URL:https://saintjust34.com/event/exposition-aux-couleurs-de-lenfance/
LOCATION:Mairie de Saint Just\, 2 Avenue Gabriel Péri\, Saint-Just\, 34400\, France
CATEGORIES:Animation,Exposition
ATTACH;FMTTYPE=image/jpeg:https://saintjust34.com/wp-content/uploads/2016/08/Composition2-1-scaled.jpg
END:VEVENT
END:VCALENDAR