BEGIN:VCALENDAR
VERSION:2.0
PRODID:-//[Village de Saint-Just dans l&#039;Hérault] - ECPv6.2.8.2//NONSGML v1.0//EN
CALSCALE:GREGORIAN
METHOD:PUBLISH
X-WR-CALNAME:[Village de Saint-Just dans l&#039;Hérault]
X-ORIGINAL-URL:https://saintjust34.com
X-WR-CALDESC:évènements pour [Village de Saint-Just dans l&#039;Hérault]
REFRESH-INTERVAL;VALUE=DURATION:PT1H
X-Robots-Tag:noindex
X-PUBLISHED-TTL:PT1H
BEGIN:VTIMEZONE
TZID:Europe/Paris
BEGIN:DAYLIGHT
TZOFFSETFROM:+0100
TZOFFSETTO:+0200
TZNAME:CEST
DTSTART:20170326T010000
END:DAYLIGHT
BEGIN:STANDARD
TZOFFSETFROM:+0200
TZOFFSETTO:+0100
TZNAME:CET
DTSTART:20171029T010000
END:STANDARD
END:VTIMEZONE
BEGIN:VEVENT
DTSTART;TZID=Europe/Paris:20171007T100000
DTEND;TZID=Europe/Paris:20171015T190000
DTSTAMP:20260425T133527
CREATED:20170915T081956Z
LAST-MODIFIED:20170915T081956Z
UID:2220-1507370400-1508094000@saintjust34.com
SUMMARY:31ème salon d'art Francis Chedozeau
DESCRIPTION:La commission culturelle organise du 7 au 15 octobre 2017 le 31ème salon d’art Francis Chedozeau. \nPlus de 30 artistes se réunissent dans la salle René Valette\, transformée pour l’occasion\, en galerie d’art.  Les artiste exposent leurs plus belles œuvres. \nCette année\, Nathalie Montel est l’invitée d’honneur du salon. \n » Sous des abords qui pourraient paraître légers\, l’œuvre de Nathalie Montel nous parle de la vie.  Elle se libère d’une figuration classique pour recréer un monde personnel proche du rêve où des oppositions peuvent se côtoyer : force et douceur\, matière et transparence\, aplat de couleur et dessin. Ce sont des instants de vie\, des petits bonheurs du quotidien où l’amour et la joie\, la couleur et la lumière nous propulse dans un univers optimiste.  Comme un grand bol d’air\, une échappée de rêve dans le réel\, elle peint la vie et la poésie qui en découle. » \nHoraires : du lundi au vendredi de 16h à 19h. Samedi et dimanche de 10h à 12h et de 15h à 19h. Fermeture à 18h le dimanche 15 octobre. \n 
URL:https://saintjust34.com/event/31eme-salon-dart-francis-chedozeau/
LOCATION:Salle René Valette\, jardins de la condamine\, Saint-Just\, 34400\, France
CATEGORIES:Animation,Art,Exposition,Salon d'art
ATTACH;FMTTYPE=image/jpeg:https://saintjust34.com/wp-content/uploads/2017/09/FACEBOOK-1-scaled.jpg
END:VEVENT
END:VCALENDAR