BEGIN:VCALENDAR
VERSION:2.0
PRODID:-//[Village de Saint-Just dans l&#039;Hérault] - ECPv6.2.8.2//NONSGML v1.0//EN
CALSCALE:GREGORIAN
METHOD:PUBLISH
X-ORIGINAL-URL:https://saintjust34.com
X-WR-CALDESC:évènements pour [Village de Saint-Just dans l&#039;Hérault]
REFRESH-INTERVAL;VALUE=DURATION:PT1H
X-Robots-Tag:noindex
X-PUBLISHED-TTL:PT1H
BEGIN:VTIMEZONE
TZID:Europe/Paris
BEGIN:DAYLIGHT
TZOFFSETFROM:+0100
TZOFFSETTO:+0200
TZNAME:CEST
DTSTART:20170326T010000
END:DAYLIGHT
BEGIN:STANDARD
TZOFFSETFROM:+0200
TZOFFSETTO:+0100
TZNAME:CET
DTSTART:20171029T010000
END:STANDARD
END:VTIMEZONE
BEGIN:VEVENT
DTSTART;VALUE=DATE:20171102
DTEND;VALUE=DATE:20180101
DTSTAMP:20260425T121759
CREATED:20171213T092723Z
LAST-MODIFIED:20171213T092723Z
UID:2447-1509580800-1514764799@saintjust34.com
SUMMARY:Exposition : Roland HOURS
DESCRIPTION:Du 2 novembre au 31 décembre \nHall culturel Mairie de Saint-Just\nVisible pendant les heures d’ouverture de la Mairie \nEntrée libre et gratuite
URL:https://saintjust34.com/event/exposition-roland-hours/
LOCATION:Mairie de Saint Just\, 2 Avenue Gabriel Péri\, Saint-Just\, 34400\, France
CATEGORIES:Exposition
ATTACH;FMTTYPE=image/jpeg:https://saintjust34.com/wp-content/uploads/2017/12/affiche-expo-st-Just-copie-1-scaled.jpg
END:VEVENT
END:VCALENDAR