BEGIN:VCALENDAR
VERSION:2.0
PRODID:-//[Village de Saint-Just dans l&#039;Hérault] - ECPv6.2.8.2//NONSGML v1.0//EN
CALSCALE:GREGORIAN
METHOD:PUBLISH
X-WR-CALNAME:[Village de Saint-Just dans l&#039;Hérault]
X-ORIGINAL-URL:https://saintjust34.com
X-WR-CALDESC:évènements pour [Village de Saint-Just dans l&#039;Hérault]
REFRESH-INTERVAL;VALUE=DURATION:PT1H
X-Robots-Tag:noindex
X-PUBLISHED-TTL:PT1H
BEGIN:VTIMEZONE
TZID:Europe/Paris
BEGIN:DAYLIGHT
TZOFFSETFROM:+0100
TZOFFSETTO:+0200
TZNAME:CEST
DTSTART:20180325T010000
END:DAYLIGHT
BEGIN:STANDARD
TZOFFSETFROM:+0200
TZOFFSETTO:+0100
TZNAME:CET
DTSTART:20181028T010000
END:STANDARD
END:VTIMEZONE
BEGIN:VEVENT
DTSTART;TZID=Europe/Paris:20181117T210000
DTEND;TZID=Europe/Paris:20181117T223000
DTSTAMP:20260424T194928
CREATED:20181107T085257Z
LAST-MODIFIED:20181107T085257Z
UID:3040-1542488400-1542493800@saintjust34.com
SUMMARY:Concert spectacle chœurs
DESCRIPTION:Concert de 3  ensembles vocaux et un orchestre avec 80 chanteurs « Bienvenue Monsieur Prévert ». \n  \n  \n 
URL:https://saintjust34.com/event/concert-spectacle-choeurs/
LOCATION:Salle René Valette\, jardins de la condamine\, Saint-Just\, 34400\, France
CATEGORIES:Animation,Exposition
ATTACH;FMTTYPE=image/png:https://saintjust34.com/wp-content/uploads/2018/11/Prevert-site-1.png
END:VEVENT
END:VCALENDAR