BEGIN:VCALENDAR
VERSION:2.0
PRODID:-//[Village de Saint-Just dans l&#039;Hérault] - ECPv6.2.8.2//NONSGML v1.0//EN
CALSCALE:GREGORIAN
METHOD:PUBLISH
X-ORIGINAL-URL:https://saintjust34.com
X-WR-CALDESC:évènements pour [Village de Saint-Just dans l&#039;Hérault]
REFRESH-INTERVAL;VALUE=DURATION:PT1H
X-Robots-Tag:noindex
X-PUBLISHED-TTL:PT1H
BEGIN:VTIMEZONE
TZID:Europe/Paris
BEGIN:DAYLIGHT
TZOFFSETFROM:+0100
TZOFFSETTO:+0200
TZNAME:CEST
DTSTART:20190331T010000
END:DAYLIGHT
BEGIN:STANDARD
TZOFFSETFROM:+0200
TZOFFSETTO:+0100
TZNAME:CET
DTSTART:20191027T010000
END:STANDARD
END:VTIMEZONE
BEGIN:VEVENT
DTSTART;VALUE=DATE:20190218
DTEND;VALUE=DATE:20190428
DTSTAMP:20260424T130015
CREATED:20190222T102600Z
LAST-MODIFIED:20190222T102600Z
UID:3298-1550448000-1556409599@saintjust34.com
SUMMARY:Exposition : Pierre BERNARD
DESCRIPTION:Du 18 février au 27 avril 2019 : exposition de peinture. \nHall culturel Mairie de Saint-Just\nVisible pendant les heures d’ouverture de la Mairie \nEntrée libre et gratuite
URL:https://saintjust34.com/event/exposition-pierre-bernard/
LOCATION:Mairie de Saint Just\, 2 Avenue Gabriel Péri\, Saint-Just\, 34400\, France
CATEGORIES:Art,Exposition
ATTACH;FMTTYPE=image/png:https://saintjust34.com/wp-content/uploads/2019/02/Expo-Bernard-1.png
END:VEVENT
END:VCALENDAR