BEGIN:VCALENDAR
VERSION:2.0
PRODID:-//[Village de Saint-Just dans l&#039;Hérault] - ECPv6.2.8.2//NONSGML v1.0//EN
CALSCALE:GREGORIAN
METHOD:PUBLISH
X-WR-CALNAME:[Village de Saint-Just dans l&#039;Hérault]
X-ORIGINAL-URL:https://saintjust34.com
X-WR-CALDESC:évènements pour [Village de Saint-Just dans l&#039;Hérault]
REFRESH-INTERVAL;VALUE=DURATION:PT1H
X-Robots-Tag:noindex
X-PUBLISHED-TTL:PT1H
BEGIN:VTIMEZONE
TZID:Europe/Paris
BEGIN:DAYLIGHT
TZOFFSETFROM:+0100
TZOFFSETTO:+0200
TZNAME:CEST
DTSTART:20190331T010000
END:DAYLIGHT
BEGIN:STANDARD
TZOFFSETFROM:+0200
TZOFFSETTO:+0100
TZNAME:CET
DTSTART:20191027T010000
END:STANDARD
END:VTIMEZONE
BEGIN:VEVENT
DTSTART;VALUE=DATE:20190902
DTEND;VALUE=DATE:20191101
DTSTAMP:20260420T165222
CREATED:20190917T075608Z
LAST-MODIFIED:20190917T075608Z
UID:3761-1567382400-1572566399@saintjust34.com
SUMMARY:Exposition : Jean-Paul LYON
DESCRIPTION:Du 2 septembre au 31 octobre 2019 : exposition de peinture de Jean-Paul LYON \nLa tauromachie dans tous ses états ! \n  \nHall culturel Mairie de Saint-Just\nVisible pendant les heures d’ouverture de la Mairie \nEntrée libre et gratuite
URL:https://saintjust34.com/event/exposition-jean-paul-lyon/
LOCATION:Mairie de Saint Just\, 2 Avenue Gabriel Péri\, Saint-Just\, 34400\, France
CATEGORIES:Art,Exposition
ATTACH;FMTTYPE=image/png:https://saintjust34.com/wp-content/uploads/2019/09/Sans-titre-1-1.png
END:VEVENT
END:VCALENDAR