BEGIN:VCALENDAR
VERSION:2.0
PRODID:-//[Village de Saint-Just dans l&#039;Hérault] - ECPv6.2.8.2//NONSGML v1.0//EN
CALSCALE:GREGORIAN
METHOD:PUBLISH
X-ORIGINAL-URL:https://saintjust34.com
X-WR-CALDESC:évènements pour [Village de Saint-Just dans l&#039;Hérault]
REFRESH-INTERVAL;VALUE=DURATION:PT1H
X-Robots-Tag:noindex
X-PUBLISHED-TTL:PT1H
BEGIN:VTIMEZONE
TZID:Europe/Paris
BEGIN:DAYLIGHT
TZOFFSETFROM:+0100
TZOFFSETTO:+0200
TZNAME:CEST
DTSTART:20200329T010000
END:DAYLIGHT
BEGIN:STANDARD
TZOFFSETFROM:+0200
TZOFFSETTO:+0100
TZNAME:CET
DTSTART:20201025T010000
END:STANDARD
END:VTIMEZONE
BEGIN:VEVENT
DTSTART;VALUE=DATE:20200106
DTEND;VALUE=DATE:20200229
DTSTAMP:20260424T182945
CREATED:20200218T085212Z
LAST-MODIFIED:20200218T085212Z
UID:4129-1578268800-1582934399@saintjust34.com
SUMMARY:Exposition : Claude JEANNET
DESCRIPTION:Du 6 janvier au 28 février 2020 : exposition de peinture de Claude JEANNET.\n \nVenez découvrir les paysages\, les portraits et les peintures abstraites de Claude JEANNET. \n  \nHall culturel Mairie de Saint-Just\nVisible pendant les heures d’ouverture de la Mairie \nEntrée libre et gratuite
URL:https://saintjust34.com/event/exposition-claude-jeannet/
LOCATION:Mairie de Saint Just\, 2 Avenue Gabriel Péri\, Saint-Just\, 34400\, France
CATEGORIES:Art,Exposition
ATTACH;FMTTYPE=image/png:https://saintjust34.com/wp-content/uploads/2020/02/site-1.png
END:VEVENT
BEGIN:VEVENT
DTSTART;TZID=Europe/Paris:20200216T093000
DTEND;TZID=Europe/Paris:20200216T130000
DTSTAMP:20260424T182945
CREATED:20200123T164422Z
LAST-MODIFIED:20200123T164422Z
UID:4099-1581845400-1581858000@saintjust34.com
SUMMARY:Rétro Saint-Just
DESCRIPTION:L’association Les Miniacs du Languedoc organise son rassemblement mensuel.\n \nL’association des amoureux des Mini Austin et des voitures d’exception vous donne rendez-vous tous les 3èmes dimanche de chaque mois pour un Rétro Saint-Just. \nDIMANCHE 16 FEVRIER \, rendez vous à partir de 9h30 à 13h pour une exposition de voitures d’exception. \nOuvert à tous véhicules. Entrée gratuite.\nBuvette\, viennoiseries. \n  \n 
URL:https://saintjust34.com/event/retro-saint-just-2/
LOCATION:Espace du Dardaillon\, 105-225 Avenue de l'Abrivado\, Saint-Just\, 34400\, France
CATEGORIES:Animation,Exposition
ATTACH;FMTTYPE=image/jpeg:https://saintjust34.com/wp-content/uploads/2020/01/81551079_1504925162991462_4784425205025996800_o-1.jpg
END:VEVENT
END:VCALENDAR