BEGIN:VCALENDAR
VERSION:2.0
PRODID:-//[Village de Saint-Just dans l&#039;Hérault] - ECPv6.2.8.2//NONSGML v1.0//EN
CALSCALE:GREGORIAN
METHOD:PUBLISH
X-WR-CALNAME:[Village de Saint-Just dans l&#039;Hérault]
X-ORIGINAL-URL:https://saintjust34.com
X-WR-CALDESC:évènements pour [Village de Saint-Just dans l&#039;Hérault]
REFRESH-INTERVAL;VALUE=DURATION:PT1H
X-Robots-Tag:noindex
X-PUBLISHED-TTL:PT1H
BEGIN:VTIMEZONE
TZID:Europe/Paris
BEGIN:DAYLIGHT
TZOFFSETFROM:+0100
TZOFFSETTO:+0200
TZNAME:CEST
DTSTART:20160327T010000
END:DAYLIGHT
BEGIN:STANDARD
TZOFFSETFROM:+0200
TZOFFSETTO:+0100
TZNAME:CET
DTSTART:20161030T010000
END:STANDARD
END:VTIMEZONE
BEGIN:VEVENT
DTSTART;TZID=Europe/Paris:20160712T083000
DTEND;TZID=Europe/Paris:20160712T123000
DTSTAMP:20260426T060332
CREATED:20160708T091239Z
LAST-MODIFIED:20160708T091239Z
UID:601-1468312200-1468326600@saintjust34.com
SUMMARY:Mammobile
DESCRIPTION:Le mammobile sera de passage le MARDI 12 JUILLET 2016 de 8h30 à 12h30\, salle René Valette.\nC’est à partir de 40 ans que les contrôles de dépistage du cancer du sein débutent. \nMême sans invitation\, vous pouvez bénéficier du dépistage du cancer du sein.\nPour cela il vous suffit de vous munir d’une pièce d’identité et d’assurée sociale.
URL:https://saintjust34.com/event/mammobile/
LOCATION:Salle René Valette\, jardins de la condamine\, Saint-Just\, 34400\, France
CATEGORIES:Santé
ATTACH;FMTTYPE=image/jpeg:https://saintjust34.com/wp-content/uploads/2016/07/mammobile.jpg
ORGANIZER;CN="A.M.H.D.C.S":MAILTO:amhdcs@mammobile.com
END:VEVENT
END:VCALENDAR