BEGIN:VCALENDAR
VERSION:2.0
PRODID:-//[Village de Saint-Just dans l&#039;Hérault] - ECPv6.2.8.2//NONSGML v1.0//EN
CALSCALE:GREGORIAN
METHOD:PUBLISH
X-ORIGINAL-URL:https://saintjust34.com
X-WR-CALDESC:évènements pour [Village de Saint-Just dans l&#039;Hérault]
REFRESH-INTERVAL;VALUE=DURATION:PT1H
X-Robots-Tag:noindex
X-PUBLISHED-TTL:PT1H
BEGIN:VTIMEZONE
TZID:Europe/Paris
BEGIN:DAYLIGHT
TZOFFSETFROM:+0100
TZOFFSETTO:+0200
TZNAME:CEST
DTSTART:20170326T010000
END:DAYLIGHT
BEGIN:STANDARD
TZOFFSETFROM:+0200
TZOFFSETTO:+0100
TZNAME:CET
DTSTART:20171029T010000
END:STANDARD
END:VTIMEZONE
BEGIN:VEVENT
DTSTART;TZID=Europe/Paris:20170703T083000
DTEND;TZID=Europe/Paris:20170703T123000
DTSTAMP:20260425T135348
CREATED:20170522T085123Z
LAST-MODIFIED:20170522T085123Z
UID:1882-1499070600-1499085000@saintjust34.com
SUMMARY:Passage du Mammobile
DESCRIPTION:Le dépistage du cancer du sein\, pensez-y !  \nLe Mammobile sera de passage à Saint-Just le LUNDI 3 JUILLET à partir de 8h30 et jusqu’à 12h30. \nLe dépistage est organisé par l’association A.M.H.D.C.S. (Association Montpellier-Hérault pour le Dépistage du Cancer du Sein). Vous recevrez une invitation à domicile quelques jours avant le passage du Mammobile. \nTotalement indolore\, le test ne dure qu’une vingtaine de minutes. Alors n’hésitez pas à venir au Mammobile. Pour les femmes de 40 à 49 ans. \nDans le cas où aucune convocation ne vous a été adressée\, munissez-vous d’une pièce d’identité et d’un justificatif de domicile (quittance EDF\, loyer…) et présentez-vous au Mammobile le LUNDI 3 JUILLET à l’heure qui vous conviendra afin d’être dépistée. \n\n \n\n  \n 
URL:https://saintjust34.com/event/passage-de-la-mammobile/
LOCATION:Salle René Valette\, jardins de la condamine\, Saint-Just\, 34400\, France
CATEGORIES:Santé
ATTACH;FMTTYPE=image/jpeg:https://saintjust34.com/wp-content/uploads/2017/05/Composition2-1-scaled.jpg
ORGANIZER;CN="A.M.H.D.C.S":MAILTO:amhdcs@mammobile.com
END:VEVENT
END:VCALENDAR