BEGIN:VCALENDAR
VERSION:2.0
PRODID:-//[Village de Saint-Just dans l&#039;Hérault] - ECPv6.2.8.2//NONSGML v1.0//EN
CALSCALE:GREGORIAN
METHOD:PUBLISH
X-ORIGINAL-URL:https://saintjust34.com
X-WR-CALDESC:évènements pour [Village de Saint-Just dans l&#039;Hérault]
REFRESH-INTERVAL;VALUE=DURATION:PT1H
X-Robots-Tag:noindex
X-PUBLISHED-TTL:PT1H
BEGIN:VTIMEZONE
TZID:Europe/Paris
BEGIN:DAYLIGHT
TZOFFSETFROM:+0100
TZOFFSETTO:+0200
TZNAME:CEST
DTSTART:20190331T010000
END:DAYLIGHT
BEGIN:STANDARD
TZOFFSETFROM:+0200
TZOFFSETTO:+0100
TZNAME:CET
DTSTART:20191027T010000
END:STANDARD
END:VTIMEZONE
BEGIN:VEVENT
DTSTART;TZID=Europe/Paris:20191201T090000
DTEND;TZID=Europe/Paris:20191201T130000
DTSTAMP:20260421T210926
CREATED:20191014T124817Z
LAST-MODIFIED:20191014T124817Z
UID:3827-1575190800-1575205200@saintjust34.com
SUMMARY:Téléthon 2019 : bourse aux jouets
DESCRIPTION:Vente de jouets et de vêtements pour enfants et de matériel de puériculture d’occasion. Sur inscription uniquement. \nEntrée gratuite \nSalle René Valette \n 
URL:https://saintjust34.com/event/telethon-2019-bourse-aux-jouets/
LOCATION:Salle René Valette\, jardins de la condamine\, Saint-Just\, 34400\, France
CATEGORIES:Animation,Enfance,Santé,Solidarité
ATTACH;FMTTYPE=image/png:https://saintjust34.com/wp-content/uploads/2019/10/Sans-titre-1-4-1.png
END:VEVENT
BEGIN:VEVENT
DTSTART;TZID=Europe/Paris:20191201T090000
DTEND;TZID=Europe/Paris:20191201T130000
DTSTAMP:20260421T210926
CREATED:20191119T082623Z
LAST-MODIFIED:20191119T082623Z
UID:3908-1575190800-1575205200@saintjust34.com
SUMMARY:Téléthon 2019 : Balade en Mini Austin Classic
DESCRIPTION:L’association Les Miniacs du Languedoc propose une balade en Mini Classic aux alentours du village. \nParticipation – don \nLes enfants de moins de 10 ans devront être accompagnés d’un parent. \nDépart devant la salle René Valette \n  \n  \n 
URL:https://saintjust34.com/event/telethon-2019-balade-en-mini-austin-classic/
LOCATION:Salle René Valette\, jardins de la condamine\, Saint-Just\, 34400\, France
CATEGORIES:Animation,Association,Santé,Solidarité
ATTACH;FMTTYPE=image/png:https://saintjust34.com/wp-content/uploads/2019/11/mini-site-1.png
END:VEVENT
BEGIN:VEVENT
DTSTART;TZID=Europe/Paris:20191201T180000
DTEND;TZID=Europe/Paris:20191201T200000
DTSTAMP:20260421T210926
CREATED:20191121T133552Z
LAST-MODIFIED:20191121T133552Z
UID:3927-1575223200-1575230400@saintjust34.com
SUMMARY:Téléthon 2019 : loto
DESCRIPTION:Loto du Téléthon. \nSalle René Valette \n  \n 
URL:https://saintjust34.com/event/telethon-2019-loto-2/
LOCATION:Salle René Valette\, jardins de la condamine\, Saint-Just\, 34400\, France
CATEGORIES:Animation,Association,Loto,Santé,Solidarité
ATTACH;FMTTYPE=image/jpeg:https://saintjust34.com/wp-content/uploads/2017/05/Composition5-1-1-scaled.jpg
END:VEVENT
END:VCALENDAR