BEGIN:VCALENDAR
VERSION:2.0
PRODID:-//[Village de Saint-Just dans l&#039;Hérault] - ECPv6.2.8.2//NONSGML v1.0//EN
CALSCALE:GREGORIAN
METHOD:PUBLISH
X-WR-CALNAME:[Village de Saint-Just dans l&#039;Hérault]
X-ORIGINAL-URL:https://saintjust34.com
X-WR-CALDESC:évènements pour [Village de Saint-Just dans l&#039;Hérault]
REFRESH-INTERVAL;VALUE=DURATION:PT1H
X-Robots-Tag:noindex
X-PUBLISHED-TTL:PT1H
BEGIN:VTIMEZONE
TZID:Europe/Paris
BEGIN:DAYLIGHT
TZOFFSETFROM:+0100
TZOFFSETTO:+0200
TZNAME:CEST
DTSTART:20220327T010000
END:DAYLIGHT
BEGIN:STANDARD
TZOFFSETFROM:+0200
TZOFFSETTO:+0100
TZNAME:CET
DTSTART:20221030T010000
END:STANDARD
END:VTIMEZONE
BEGIN:VEVENT
DTSTART;TZID=Europe/Paris:20221001T080000
DTEND;TZID=Europe/Paris:20221031T170000
DTSTAMP:20260422T032906
CREATED:20220916T150027Z
LAST-MODIFIED:20220916T150027Z
UID:6090-1664611200-1667235600@saintjust34.com
SUMMARY:Saint-Just en rose
DESCRIPTION:Saint-Just en Rose\, le mois de la prévention du cancer du sein.\nDes ateliers\, des animations\, des activités les week-ends d’octobre. Mais aussi des loteries et des ventes durant tout le mois. Les bénéfices des différentes actions seront reversés à l’ICM – institut du cancer de Montpellier.\n 
URL:https://saintjust34.com/event/saint-just-en-rose-4/
LOCATION:Saint-Just\, Saint-just\, 34400\, France
CATEGORIES:Animation,Art,Association,Culture,Danse,Information,Santé,Solidarité
ATTACH;FMTTYPE=image/jpeg:https://saintjust34.com/wp-content/uploads/2022/09/Composition2-scaled.jpg
END:VEVENT
BEGIN:VEVENT
DTSTART;TZID=Europe/Paris:20221017T150000
DTEND;TZID=Europe/Paris:20221017T193000
DTSTAMP:20260422T032906
CREATED:20221006T130247Z
LAST-MODIFIED:20221006T151935Z
UID:6129-1666018800-1666035000@saintjust34.com
SUMMARY:Don de sang
DESCRIPTION:Les donneurs de sang Saint-Justois organisent une collecte de sang le LUNDI 17 OCTOBRE de 15h à 19h30 à la salle du Lavoir. \n 
URL:https://saintjust34.com/event/don-de-sang-12/
LOCATION:salle du Lavoir\, Saint-Just\, 34400\, France
CATEGORIES:Association,Information,Santé,Solidarité
ATTACH;FMTTYPE=image/png:https://saintjust34.com/wp-content/uploads/2022/03/275078412_7066017353469283_5969649374963683089_n.png
END:VEVENT
END:VCALENDAR