BEGIN:VCALENDAR
VERSION:2.0
PRODID:-//[Village de Saint-Just dans l&#039;Hérault] - ECPv6.2.8.2//NONSGML v1.0//EN
CALSCALE:GREGORIAN
METHOD:PUBLISH
X-WR-CALNAME:[Village de Saint-Just dans l&#039;Hérault]
X-ORIGINAL-URL:https://saintjust34.com
X-WR-CALDESC:évènements pour [Village de Saint-Just dans l&#039;Hérault]
REFRESH-INTERVAL;VALUE=DURATION:PT1H
X-Robots-Tag:noindex
X-PUBLISHED-TTL:PT1H
BEGIN:VTIMEZONE
TZID:Europe/Paris
BEGIN:DAYLIGHT
TZOFFSETFROM:+0100
TZOFFSETTO:+0200
TZNAME:CEST
DTSTART:20230326T010000
END:DAYLIGHT
BEGIN:STANDARD
TZOFFSETFROM:+0200
TZOFFSETTO:+0100
TZNAME:CET
DTSTART:20231029T010000
END:STANDARD
END:VTIMEZONE
BEGIN:VEVENT
DTSTART;TZID=Europe/Paris:20230306T150000
DTEND;TZID=Europe/Paris:20230306T193000
DTSTAMP:20260422T101254
CREATED:20230208T110859Z
LAST-MODIFIED:20230216T173414Z
UID:6337-1678114800-1678131000@saintjust34.com
SUMMARY:Don de sang
DESCRIPTION:Les donneurs de sang Saint-Justois organisent une collecte de sang le LUNDI 6 MARS de 15h à 19h30 à la salle du Lavoir. \n \n 
URL:https://saintjust34.com/event/don-de-sang-13/
LOCATION:salle du Lavoir\, Saint-Just\, 34400\, France
CATEGORIES:Association,Santé,Solidarité
ATTACH;FMTTYPE=image/jpeg:https://saintjust34.com/wp-content/uploads/2023/02/donSang_0.jpg
END:VEVENT
END:VCALENDAR