BEGIN:VCALENDAR
VERSION:2.0
PRODID:-//[Village de Saint-Just dans l&#039;Hérault] - ECPv6.2.8.2//NONSGML v1.0//EN
CALSCALE:GREGORIAN
METHOD:PUBLISH
X-WR-CALNAME:[Village de Saint-Just dans l&#039;Hérault]
X-ORIGINAL-URL:https://saintjust34.com
X-WR-CALDESC:évènements pour [Village de Saint-Just dans l&#039;Hérault]
REFRESH-INTERVAL;VALUE=DURATION:PT1H
X-Robots-Tag:noindex
X-PUBLISHED-TTL:PT1H
BEGIN:VTIMEZONE
TZID:Europe/Paris
BEGIN:DAYLIGHT
TZOFFSETFROM:+0100
TZOFFSETTO:+0200
TZNAME:CEST
DTSTART:20230326T010000
END:DAYLIGHT
BEGIN:STANDARD
TZOFFSETFROM:+0200
TZOFFSETTO:+0100
TZNAME:CET
DTSTART:20231029T010000
END:STANDARD
END:VTIMEZONE
BEGIN:VEVENT
DTSTART;TZID=Europe/Paris:20231009T150000
DTEND;TZID=Europe/Paris:20231009T193000
DTSTAMP:20260424T141732
CREATED:20230818T101009Z
LAST-MODIFIED:20230911T100105Z
UID:6738-1696863600-1696879800@saintjust34.com
SUMMARY:Don de sang
DESCRIPTION:Les donneurs de sang Saint-Justois organisent une collecte de sang le LUNDI 9 OCTOBRE de 15h à 19h30 à la salle du Lavoir. \nPourquoi donner son sang ?\nChaque année\, grâce au don de sang\, 1 MILLION de patients sont soignés : une femme qui a perdu beaucoup de sang en accouchant\, un homme atteint d’un cancer sous traitement chimiothérapique … Les besoins des malades sont constants : 10 000 dons sont nécessaires chaque jour en France. Chaque don est précieux car il permet de sauver 3 vies !\n\n*Pour donner votre sang\, vous devez :\n– Être âgé(e) de 18 à 70 ans\n– Peser au moins 50kg\n– Être reconnu(e) apte lors de l’entretien préalable au don\n– Être muni(e) d’une pièce d’identité avec photo\n– Manger avant et bien vous hydrater tout au long du parcours\nAvant de vous déplacer\, faites le test en ligne « Qui peut donner ? » : efs.link/test\n\n*Fréquence et délais entre les dons :\nUne femme peut donner son sang 4 fois par an et un homme 6 fois par an. Entre chaque don de sang\, il faut respecter un délai minimum de 8 semaines.\n\n*Les étapes du don de sang :\n– Accueil et inscription\n– Questionnaire et entretien préalable au don\n– Le don (10 min)\n– Pause A+ (20 min – collation)\nDe l’inscription à la pause A+\, prévoyez entre 45 min et 1h. Prenez 1h pour sauver 3 vies !
URL:https://saintjust34.com/event/don-de-sang-15/
LOCATION:salle du Lavoir\, Saint-Just\, 34400\, France
CATEGORIES:Santé,Solidarité
ATTACH;FMTTYPE=image/jpeg:https://saintjust34.com/wp-content/uploads/2023/02/donSang_0.jpg
END:VEVENT
END:VCALENDAR