BEGIN:VCALENDAR
VERSION:2.0
PRODID:-//[Village de Saint-Just dans l&#039;Hérault] - ECPv6.2.8.2//NONSGML v1.0//EN
CALSCALE:GREGORIAN
METHOD:PUBLISH
X-WR-CALNAME:[Village de Saint-Just dans l&#039;Hérault]
X-ORIGINAL-URL:https://saintjust34.com
X-WR-CALDESC:évènements pour [Village de Saint-Just dans l&#039;Hérault]
REFRESH-INTERVAL;VALUE=DURATION:PT1H
X-Robots-Tag:noindex
X-PUBLISHED-TTL:PT1H
BEGIN:VTIMEZONE
TZID:Europe/Paris
BEGIN:DAYLIGHT
TZOFFSETFROM:+0100
TZOFFSETTO:+0200
TZNAME:CEST
DTSTART:20190331T010000
END:DAYLIGHT
BEGIN:STANDARD
TZOFFSETFROM:+0200
TZOFFSETTO:+0100
TZNAME:CET
DTSTART:20191027T010000
END:STANDARD
END:VTIMEZONE
BEGIN:VEVENT
DTSTART;TZID=Europe/Paris:20191129T190000
DTEND;TZID=Europe/Paris:20191129T233000
DTSTAMP:20260421T225137
CREATED:20191115T100238Z
LAST-MODIFIED:20191115T100238Z
UID:3879-1575054000-1575070200@saintjust34.com
SUMMARY:Téléthon 2019 : un rire pour un sourire
DESCRIPTION:Repas concert organisé dans le cadre du Téléthon 2019. Venez découvrir les divers talents de votre village. \nA partir de 19h. \nProgramme : \nApéritif animé par Ricoune. \nRepas animé par Angélique et Marianne. \nConcert du groupe « Murder at the pony club » \n2 formules : \n– repas + concerts : 12 € (repas sur réservation uniquement au 04 67 83 56 18 ou au 06 42 42 60 33) \n– Concerts : 7 € \nLes groupes : \nRicoune : véritable icône des férias et fêtes votives du sud de la France\, est l’artiste incontournable du milieu festif. Il a su s’imposer\, avec un style unique\, en lançant en 2001\, le gros succès « Dans un verre à ballon » (le Ricard qu’on consomme avec modération)\, qui depuis encore est l’hymne des férias. Ou encore la fameuse « vache » du générique de fin de l’émission Interville en 2007.Musicalement séduisant\, il nous emporte dans son univers chaleureux et famillier…..Le petit bonhomme d’Henri et en même temps le grand Ricoune\, nous donne une sacrée leçon de simplicité\, d’authenticité et surtout une grosse dose de bonne humeur ! \n \n  \nAngélique + Marianne : Angélique est une artiste chanteuse Saint-Justoise. Artiste aux multiples talents\, elle proposera un répertoire de variété française. \nElle sera partagera la scène avec Marianne\, une très jeune artiste\, qui proposera également un répertoire de variété. \n \n  \nMurder at the Pony club : le groupe local offre une musique qui peut être qualifiée de garage rock saupoudré de stoner qui fait bouger les tête\, une palette d’influences musicales telles que Queens Of The Stone Age\, Incubus\, Deftones\, Foo Fighters mais également des artistes actuels tels que Royal Blood\, Badflower ou encore Marmozets … \n \n  \n  \n 
URL:https://saintjust34.com/event/telethon-2019-un-rire-pour-un-sourire/
LOCATION:Salle René Valette\, jardins de la condamine\, Saint-Just\, 34400\, France
CATEGORIES:Animation,Association,Concert,Santé,Solidarité,Spectacle
ATTACH;FMTTYPE=image/png:https://saintjust34.com/wp-content/uploads/2019/11/banniere-un-rire-pour-un-sourire.png
END:VEVENT
END:VCALENDAR