BEGIN:VCALENDAR
VERSION:2.0
PRODID:-//[Village de Saint-Just dans l&#039;Hérault] - ECPv6.2.8.2//NONSGML v1.0//EN
CALSCALE:GREGORIAN
METHOD:PUBLISH
X-ORIGINAL-URL:https://saintjust34.com
X-WR-CALDESC:évènements pour [Village de Saint-Just dans l&#039;Hérault]
REFRESH-INTERVAL;VALUE=DURATION:PT1H
X-Robots-Tag:noindex
X-PUBLISHED-TTL:PT1H
BEGIN:VTIMEZONE
TZID:Europe/Paris
BEGIN:DAYLIGHT
TZOFFSETFROM:+0100
TZOFFSETTO:+0200
TZNAME:CEST
DTSTART:20190331T010000
END:DAYLIGHT
BEGIN:STANDARD
TZOFFSETFROM:+0200
TZOFFSETTO:+0100
TZNAME:CET
DTSTART:20191027T010000
END:STANDARD
END:VTIMEZONE
BEGIN:VEVENT
DTSTART;TZID=Europe/Paris:20191130T180000
DTEND;TZID=Europe/Paris:20191130T200000
DTSTAMP:20260421T225506
CREATED:20191121T133344Z
LAST-MODIFIED:20191121T133344Z
UID:3924-1575136800-1575144000@saintjust34.com
SUMMARY:Téléthon 2019 : loto
DESCRIPTION:Loto du Téléthon. \nSalle René Valette \n  \n 
URL:https://saintjust34.com/event/telethon-2019-loto/
LOCATION:Salle René Valette\, jardins de la condamine\, Saint-Just\, 34400\, France
CATEGORIES:Animation,Association,Loto,Santé,Solidarité
ATTACH;FMTTYPE=image/jpeg:https://saintjust34.com/wp-content/uploads/2017/05/Composition5-1-1-scaled.jpg
END:VEVENT
END:VCALENDAR