BEGIN:VCALENDAR
VERSION:2.0
PRODID:-//[Village de Saint-Just dans l&#039;Hérault] - ECPv6.2.8.2//NONSGML v1.0//EN
CALSCALE:GREGORIAN
METHOD:PUBLISH
X-WR-CALNAME:[Village de Saint-Just dans l&#039;Hérault]
X-ORIGINAL-URL:https://saintjust34.com
X-WR-CALDESC:évènements pour [Village de Saint-Just dans l&#039;Hérault]
REFRESH-INTERVAL;VALUE=DURATION:PT1H
X-Robots-Tag:noindex
X-PUBLISHED-TTL:PT1H
BEGIN:VTIMEZONE
TZID:Europe/Paris
BEGIN:DAYLIGHT
TZOFFSETFROM:+0100
TZOFFSETTO:+0200
TZNAME:CEST
DTSTART:20200329T010000
END:DAYLIGHT
BEGIN:STANDARD
TZOFFSETFROM:+0200
TZOFFSETTO:+0100
TZNAME:CET
DTSTART:20201025T010000
END:STANDARD
END:VTIMEZONE
BEGIN:VEVENT
DTSTART;TZID=Europe/Paris:20200418T120000
DTEND;TZID=Europe/Paris:20200418T200000
DTSTAMP:20260421T162053
CREATED:20200124T092810Z
LAST-MODIFIED:20200124T092810Z
UID:4225-1587211200-1587240000@saintjust34.com
SUMMARY:Journée caritative de lutte contre la maladie de Charcot - ANNULE
DESCRIPTION:En raison de l’épidémie de Coronavirus\, la journée caritative a été annulée. Merci de votre compréhension. \nJournée au profit de l’association Espoir qui lutte contre la maladie de Charcot. \nProgramme : \nÀ partir de 12h : accueil avec apéritif musical avec le groupe Morpion’s. \nRepas concert. \nPause musicale avec Marianne. \nConcert avec le groupe The Old Boys. \n  \nTarif : 20 € par personne \nInfos et réservations : Yves QUESADA au 06 88 09 24 47. \nChèque à l’ordre de l’ASCM. \n  \n  \n 
URL:https://saintjust34.com/event/annule-journee-caritative-de-lutte-contre-la-maladie-de-charcot/
LOCATION:Salle René Valette\, jardins de la condamine\, Saint-Just\, 34400\, France
CATEGORIES:Animation,Musique,Santé,Solidarité,Spectacle
ATTACH;FMTTYPE=image/png:https://saintjust34.com/wp-content/uploads/2020/01/Sans-titre-2-1-1.png
END:VEVENT
END:VCALENDAR