BEGIN:VCALENDAR
VERSION:2.0
PRODID:-//[Village de Saint-Just dans l&#039;Hérault] - ECPv6.2.8.2//NONSGML v1.0//EN
CALSCALE:GREGORIAN
METHOD:PUBLISH
X-ORIGINAL-URL:https://saintjust34.com
X-WR-CALDESC:évènements pour [Village de Saint-Just dans l&#039;Hérault]
REFRESH-INTERVAL;VALUE=DURATION:PT1H
X-Robots-Tag:noindex
X-PUBLISHED-TTL:PT1H
BEGIN:VTIMEZONE
TZID:Europe/Paris
BEGIN:DAYLIGHT
TZOFFSETFROM:+0100
TZOFFSETTO:+0200
TZNAME:CEST
DTSTART:20220327T010000
END:DAYLIGHT
BEGIN:STANDARD
TZOFFSETFROM:+0200
TZOFFSETTO:+0100
TZNAME:CET
DTSTART:20221030T010000
END:STANDARD
END:VTIMEZONE
BEGIN:VEVENT
DTSTART;TZID=Europe/Paris:20220124T150000
DTEND;TZID=Europe/Paris:20220124T193000
DTSTAMP:20260421T162348
CREATED:20220120T173530Z
LAST-MODIFIED:20220124T085611Z
UID:5664-1643036400-1643052600@saintjust34.com
SUMMARY:Don de sang ANNULE
DESCRIPTION:Le don de sang est annulé par manque d’effectif. Un don est organisé le JEUDI 27 JANVIER  à Lunel. Merci de vous reporter à ce lieu de collecte. Donnez votre sang\, sauvez des vies ! \n  \n  \nPrès de chez moi\, quelqu’un a besoin de mon sang\, de plasma\, ou de plaquettes … Je partage mon pouvoir ! \nLundi 24 janvier de 15h à 19h30 à la salle du Lavoir venez donner votre sang. \n  \nPrêt pour sauver des vies ? Pour cela 3 étapes seulement : 1 Je m’auto évalue en 5 minutes\, grâce au questionnaire Puis-je donner*; 2 Je choisis mon lieu de collecte sur la carte Où donner ; 3 Je prends rendez-vous. Un donneur averti en vaut deux ;-). C’est parti ! quiz : puis-je-donner mon sang ? \n  \n 
URL:https://saintjust34.com/event/don-de-sang-9/
LOCATION:salle du Lavoir\, Saint-Just\, 34400\, France
CATEGORIES:Santé,Solidarité
ATTACH;FMTTYPE=image/png:https://saintjust34.com/wp-content/uploads/2022/01/annule.png
END:VEVENT
END:VCALENDAR