BEGIN:VCALENDAR
VERSION:2.0
PRODID:-//[Village de Saint-Just dans l&#039;Hérault] - ECPv6.2.8.2//NONSGML v1.0//EN
CALSCALE:GREGORIAN
METHOD:PUBLISH
X-ORIGINAL-URL:https://saintjust34.com
X-WR-CALDESC:évènements pour [Village de Saint-Just dans l&#039;Hérault]
REFRESH-INTERVAL;VALUE=DURATION:PT1H
X-Robots-Tag:noindex
X-PUBLISHED-TTL:PT1H
BEGIN:VTIMEZONE
TZID:Europe/Paris
BEGIN:DAYLIGHT
TZOFFSETFROM:+0100
TZOFFSETTO:+0200
TZNAME:CEST
DTSTART:20220327T010000
END:DAYLIGHT
BEGIN:STANDARD
TZOFFSETFROM:+0200
TZOFFSETTO:+0100
TZNAME:CET
DTSTART:20221030T010000
END:STANDARD
END:VTIMEZONE
BEGIN:VEVENT
DTSTART;TZID=Europe/Paris:20220521T090000
DTEND;TZID=Europe/Paris:20220521T130000
DTSTAMP:20260421T211357
CREATED:20220519T122634Z
LAST-MODIFIED:20220519T122657Z
UID:5886-1653123600-1653138000@saintjust34.com
SUMMARY:Dépistage diabète
DESCRIPTION:
URL:https://saintjust34.com/event/depistage-diabete/
LOCATION:Maison de santé de Saint-Just
CATEGORIES:Santé
ATTACH;FMTTYPE=image/png:https://saintjust34.com/wp-content/uploads/2022/05/Sans-titre-2-1.png
END:VEVENT
BEGIN:VEVENT
DTSTART;TZID=Europe/Paris:20220521T190000
DTEND;TZID=Europe/Paris:20220521T233000
DTSTAMP:20260421T211357
CREATED:20220506T144534Z
LAST-MODIFIED:20220506T144534Z
UID:5859-1653159600-1653175800@saintjust34.com
SUMMARY:Soirée spectacle - luttons contre la maladie de Charcot
DESCRIPTION:Le ville de Saint-Just organise une soirée spectacle dont les bénéfices seront entièrement reversés à l’ARSLA (association pour la recherche sur la sclérose latérale amyotrophique et autres maladies du motoneurone) le samedi 21 mai à partir de 19h. \nEntrée + repas : 20 € (sans les boissons) \nBuvette \nInfo et réservations au 06 88 09 24 47 / 04 67 83 56 18
URL:https://saintjust34.com/event/soiree-spectacle-luttons-contre-la-maladie-de-charcot/
LOCATION:Salle René Valette\, jardins de la condamine\, Saint-Just\, 34400\, France
CATEGORIES:Animation,Concert,Musique,Santé,Solidarité,Spectacle
ATTACH;FMTTYPE=image/png:https://saintjust34.com/wp-content/uploads/2022/05/couv-site.png
END:VEVENT
END:VCALENDAR